2.43840000
0.00000000
0.00000000
-2.43840000
416570.71550793
3555208.08511787
