2.43840000
0.00000000
0.00000000
-2.43840000
404760.88708976
3555311.59432737
