2.43840000
0.00000000
0.00000000
-2.43840000
416684.04240546
3569064.08855864
