2.43840000
0.00000000
0.00000000
-2.43840000
404890.26023945
3569167.81513060
