2.43840000
0.00000000
0.00000000
-2.43840000
475750.89381028
3610317.75556582
