2.43840000
0.00000000
0.00000000
-2.43840000
440516.55389278
3610465.28314222
