2.43840000
0.00000000
0.00000000
-2.43840000
475784.47987410
3624173.10615328
