2.43840000
0.00000000
0.00000000
-2.43840000
440598.91619551
3624323.14694373
