2.43840000
0.00000000
0.00000000
-2.43840000
405252.65525273
3610737.25291656
