2.43840000
0.00000000
0.00000000
-2.43840000
392950.89300642
3555427.68303688
