2.43840000
0.00000000
0.00000000
-2.43840000
333896.85416410
3556220.17044223
