2.43840000
0.00000000
0.00000000
-2.43840000
393096.30293488
3569284.14990714
