2.43840000
0.00000000
0.00000000
-2.43840000
334122.55705940
3570078.29855487
