2.43840000
0.00000000
0.00000000
-2.43840000
369685.78582291
3583418.60974764
