2.43840000
0.00000000
0.00000000
-2.43840000
697471.65042458
3667987.61425503
