2.438400
0
0
-2.438400
697389.656037
3681796.093019
