2.43840000
0.00000000
0.00000000
-2.43840000
755063.98325960
3697147.17115541
