2.43840000
0.00000000
0.00000000
-2.43840000
696627.38064345
3709571.71762013
