2.43840000
0.00000000
0.00000000
-2.43840000
754330.90613570
3724877.43930607
