2.43840000
0.00000000
0.00000000
-2.43840000
753962.51932215
3738744.00162772
