2.43840000
0.00000000
0.00000000
-2.43840000
695774.60982417
3751161.30594244
