2.43840000
0.00000000
0.00000000
-2.43840000
683933.62770032
3764778.32369348
