2.438400000000
0.000000000000
0.000000000000
-2.438400000000
614503.068287945820
3777447.192385779200
