2.438400000000
0.000000000000
0.000000000000
-2.438400000000
648643.691375443600
3805705.854490741200
