2.438400000000
0.000000000000
0.000000000000
-2.438400000000
613992.419815276170
3819033.698082144400
