2.438400000000
0.000000000000
0.000000000000
-2.438400000000
648197.464671685710
3833431.156081593100
