2.438400000000
0.000000000000
0.000000000000
-2.438400000000
670506.683878181150
3861587.601349891200
