2.438400000000
0.000000000000
0.000000000000
-2.438400000000
556692.635628090240
3804566.791977328248
