2.438400000000
0.000000000000
0.000000000000
-2.438400000000
579560.328513356741
3818630.109069220256
