2.438400000000
0.000000000000
0.000000000000
-2.438400000000
522046.905450605846
3873680.883275608066
