2.438400000000
0.000000000000
0.000000000000
-2.438400000000
717928.926748833150
3793291.867337281400
