2.438400000000
0.000000000000
0.000000000000
-2.438400000000
682298.190838076990
3847960.459030079200
