2.438400000000
0.000000000000
0.000000000000
-2.438400000000
590209.439347038510
3901920.734556296800
