2.438400000000
0.000000000000
0.000000000000
-2.438400000000
589929.734096585070
3929648.104442849800
