2.438400000000
0.000000000000
0.000000000000
-2.438400000000
499241.564169431690
3970654.903894544600
