2.438400000000
0.000000000000
0.000000000000
-2.438400000000
419868.906742291700
3943280.285701495600
