2.438400000000
0.000000000000
0.000000000000
-2.438400000000
271730.291124816520
3918084.976313568700
