2.438400000000
0.000000000000
0.000000000000
-2.438400000000
307060.611799588140
3972751.419175017600
