2.438400000000
0.000000000000
0.000000000000
-2.438400000000
285114.792290860321
4001011.689698880070
