2.438400000000
0.000000000000
0.000000000000
-2.438400000000
285452.562233115255
4014879.891005299510
