2.438400000000
0.000000000000
0.000000000000
-2.438400000000
252086.837649525958
4029641.902081696310
