2.438400000000
0.000000000000
0.000000000000
-2.438400000000
252874.472145876701
4057382.771147994790
