2.438400000000
0.000000000000
0.000000000000
-2.438400000000
253272.570399638178
4071253.110812325960
