2.438400000000
0.000000000000
0.000000000000
-2.438400000000
287160.652306951989
4084223.731703233430
