2.438400000000
0.000000000000
0.000000000000
-2.438400000000
757961.676975496230
4002572.167229662200
