2.43840000
0.00000000
0.00000000
-2.43840000
654686.39753299
4110960.44806709
