2.43840000
0.00000000
0.00000000
-2.43840000
598510.10159495
4165513.68619459
