2.43840000
0.00000000
0.00000000
-2.43840000
653137.25022927
4194176.46568756
