2.438400
0
0
-2.438400
373811.181651
3902503.292241
