2.438400000000
0.000000000000
0.000000000000
-2.438400000000
340478.654488245316
3944348.526997901499
